BEGIN:VCALENDAR
VERSION:2.0
PRODID:-//Renfrew &amp; Area Chamber of Commerce - ECPv6.15.20//NONSGML v1.0//EN
CALSCALE:GREGORIAN
METHOD:PUBLISH
X-WR-CALNAME:Renfrew &amp; Area Chamber of Commerce
X-ORIGINAL-URL:https://renfrewareachamber.ca
X-WR-CALDESC:Events for Renfrew &amp; Area Chamber of Commerce
REFRESH-INTERVAL;VALUE=DURATION:PT1H
X-Robots-Tag:noindex
X-PUBLISHED-TTL:PT1H
BEGIN:VTIMEZONE
TZID:America/Toronto
BEGIN:DAYLIGHT
TZOFFSETFROM:-0500
TZOFFSETTO:-0400
TZNAME:EDT
DTSTART:20250309T070000
END:DAYLIGHT
BEGIN:STANDARD
TZOFFSETFROM:-0400
TZOFFSETTO:-0500
TZNAME:EST
DTSTART:20251102T060000
END:STANDARD
BEGIN:DAYLIGHT
TZOFFSETFROM:-0500
TZOFFSETTO:-0400
TZNAME:EDT
DTSTART:20260308T070000
END:DAYLIGHT
BEGIN:STANDARD
TZOFFSETFROM:-0400
TZOFFSETTO:-0500
TZNAME:EST
DTSTART:20261101T060000
END:STANDARD
BEGIN:DAYLIGHT
TZOFFSETFROM:-0500
TZOFFSETTO:-0400
TZNAME:EDT
DTSTART:20270314T070000
END:DAYLIGHT
BEGIN:STANDARD
TZOFFSETFROM:-0400
TZOFFSETTO:-0500
TZNAME:EST
DTSTART:20271107T060000
END:STANDARD
END:VTIMEZONE
BEGIN:VEVENT
DTSTART;TZID=America/Toronto:20260324T073000
DTEND;TZID=America/Toronto:20260324T090000
DTSTAMP:20260419T194719
CREATED:20260205T202358Z
LAST-MODIFIED:20260205T202358Z
UID:10000050-1774337400-1774342800@renfrewareachamber.ca
SUMMARY:Annual General Meeting & Networking Breakfast
DESCRIPTION:Date: Tuesday March 24th\nLocation: Renfrew Golf Club – 1108 Golf Course Rd. Renfrew\nTime: 7:30 a.m. Breakfast\, speaker – 8:00 a.m.\nCost: $30 for Chamber members\, $35 for non members \nGuest Speaker: Jennifer Layman – owner\, Forward Thinking Marketing Company \n“Building a Competitive Advantage”\nIf there’s one thing you know for sure in business\, it’s that there will always be competition. Whether it’s down the street or around the world\, the competition is always a factor. So\, why not make it a factor that works in your favour? Join Jennifer at the Renfrew and Area Chamber of Commerce AGM on Tuesday March 24th for insight into what you can glean from your competitors that will build your business. \nAbout Jennifer Layman\n2026 marks Jennifer’s 20th anniversary as an entrepreneur. She started Forward Thinking\, a marketing consulting company\, from scratch in 2006\, and has worked with more than 100 businesses and organizations. To celebrate\, she recently published her second book\, Forward Thinking for Future Entrepreneurs\, to accompany her first\, award-winning book\, Forward Thinking for Your Business. Jennifer is also a member of the National Speakers Association and presents to audiences across Canada and the U.S. For more on Jennifer\, visit www.fwdthink.ca
URL:https://renfrewareachamber.ca/event/annual-general-meeting-networking-breakfast/
LOCATION:Renfrew Golf Club\, 1108 Golf Course Road\, Renfrew\, Ontario\, K7V 3Z6\, Canada
ORGANIZER;CN="Renfrew & Area Chamber of Commerce":MAILTO:info@renfrewareachamber.ca
END:VEVENT
END:VCALENDAR