BEGIN:VCALENDAR
VERSION:2.0
PRODID:-//Renfrew &amp; Area Chamber of Commerce - ECPv6.15.20//NONSGML v1.0//EN
CALSCALE:GREGORIAN
METHOD:PUBLISH
X-WR-CALNAME:Renfrew &amp; Area Chamber of Commerce
X-ORIGINAL-URL:https://renfrewareachamber.ca
X-WR-CALDESC:Events for Renfrew &amp; Area Chamber of Commerce
REFRESH-INTERVAL;VALUE=DURATION:PT1H
X-Robots-Tag:noindex
X-PUBLISHED-TTL:PT1H
BEGIN:VTIMEZONE
TZID:America/Toronto
BEGIN:DAYLIGHT
TZOFFSETFROM:-0500
TZOFFSETTO:-0400
TZNAME:EDT
DTSTART:20200308T070000
END:DAYLIGHT
BEGIN:STANDARD
TZOFFSETFROM:-0400
TZOFFSETTO:-0500
TZNAME:EST
DTSTART:20201101T060000
END:STANDARD
BEGIN:DAYLIGHT
TZOFFSETFROM:-0500
TZOFFSETTO:-0400
TZNAME:EDT
DTSTART:20210314T070000
END:DAYLIGHT
BEGIN:STANDARD
TZOFFSETFROM:-0400
TZOFFSETTO:-0500
TZNAME:EST
DTSTART:20211107T060000
END:STANDARD
BEGIN:DAYLIGHT
TZOFFSETFROM:-0500
TZOFFSETTO:-0400
TZNAME:EDT
DTSTART:20220313T070000
END:DAYLIGHT
BEGIN:STANDARD
TZOFFSETFROM:-0400
TZOFFSETTO:-0500
TZNAME:EST
DTSTART:20221106T060000
END:STANDARD
BEGIN:DAYLIGHT
TZOFFSETFROM:-0500
TZOFFSETTO:-0400
TZNAME:EDT
DTSTART:20230312T070000
END:DAYLIGHT
BEGIN:STANDARD
TZOFFSETFROM:-0400
TZOFFSETTO:-0500
TZNAME:EST
DTSTART:20231105T060000
END:STANDARD
BEGIN:DAYLIGHT
TZOFFSETFROM:-0500
TZOFFSETTO:-0400
TZNAME:EDT
DTSTART:20240310T070000
END:DAYLIGHT
BEGIN:STANDARD
TZOFFSETFROM:-0400
TZOFFSETTO:-0500
TZNAME:EST
DTSTART:20241103T060000
END:STANDARD
BEGIN:DAYLIGHT
TZOFFSETFROM:-0500
TZOFFSETTO:-0400
TZNAME:EDT
DTSTART:20250309T070000
END:DAYLIGHT
BEGIN:STANDARD
TZOFFSETFROM:-0400
TZOFFSETTO:-0500
TZNAME:EST
DTSTART:20251102T060000
END:STANDARD
BEGIN:DAYLIGHT
TZOFFSETFROM:-0500
TZOFFSETTO:-0400
TZNAME:EDT
DTSTART:20260308T070000
END:DAYLIGHT
BEGIN:STANDARD
TZOFFSETFROM:-0400
TZOFFSETTO:-0500
TZNAME:EST
DTSTART:20261101T060000
END:STANDARD
END:VTIMEZONE
BEGIN:VEVENT
DTSTART;TZID=America/Toronto:20250716T170000
DTEND;TZID=America/Toronto:20250716T190000
DTSTAMP:20260419T143908
CREATED:20250627T130424Z
LAST-MODIFIED:20250627T130908Z
UID:10000046-1752685200-1752692400@renfrewareachamber.ca
SUMMARY:Sips & Snacks - After - Hours Event Presented By Lepine Lodge Apartments Renfrew
DESCRIPTION:We’re excited to announce that our next After-Hours Event will be held at Lepine Lodge Apartments Renfrew on Wednesday\, July 16th. We hope you can join us for an evening of great connections and conversation!
URL:https://renfrewareachamber.ca/event/sips-snacks-afterhours-event-presented-by-lepine-lodge-apartments-renfrew/
LOCATION:Ontario
ATTACH;FMTTYPE=image/jpeg:https://renfrewareachamber.ca/wp/wp-content/uploads/2025/06/Sips_Snacks.jpg
ORGANIZER;CN="Renfrew & Area Chamber of Commerce":MAILTO:info@renfrewareachamber.ca
END:VEVENT
BEGIN:VEVENT
DTSTART;TZID=America/Toronto:20250619T170000
DTEND;TZID=America/Toronto:20250619T190000
DTSTAMP:20260419T143908
CREATED:20250610T152033Z
LAST-MODIFIED:20250610T152033Z
UID:10000045-1750352400-1750359600@renfrewareachamber.ca
SUMMARY:Blooms & Business:  After Hours at the Flower Factory
DESCRIPTION:Join us for an exclusive evening of networking\, idea-sharing\, and collaboration with your fellow Chamber members! \n Location – The Flower Factory\, 177 Raglan St. South\, Downtown Renfrew \nDate – Thursday\, June 19th Time: 5:00 p.m. – 7:00 p.m. \n Enjoy light refreshments and hors d’oeuvres as you connect with other local business owners in a relaxed\, welcoming setting.  \n This event is complimentary for Renfrew & Area Chamber of Commerce members. \nPlease RSVP or call 613-432-4848 ext 181  \n Not a member yet? We’d love to have you join us! Contact Gail at 613-432-4848 ext. 181 or email info@renfrewareachamber.ca for membership details.
URL:https://renfrewareachamber.ca/event/blooms-business-after-hours-at-the-flower-factory/
LOCATION:Ontario
ATTACH;FMTTYPE=image/jpeg:https://renfrewareachamber.ca/wp/wp-content/uploads/2025/06/June-19-2025-Chamber-After-Hours-002.jpeg
ORGANIZER;CN="Renfrew & Area Chamber of Commerce":MAILTO:info@renfrewareachamber.ca
END:VEVENT
BEGIN:VEVENT
DTSTART;TZID=America/Toronto:20250513T073000
DTEND;TZID=America/Toronto:20250513T090000
DTSTAMP:20260419T143908
CREATED:20250505T142100Z
LAST-MODIFIED:20250507T165718Z
UID:10000042-1747121400-1747126800@renfrewareachamber.ca
SUMMARY:Mayor's / Ec/Dev Update Networking Breakfast
DESCRIPTION:Please join us on Tuesday May 13th\, 2025\, at 7:30 for breakfast\, followed by an update from our four municipalities Mayors’\, Warden Peter Emon County of Renfrew\, and an update from Renfrew County Economic Development.  \nFollow the link to purchase your Tickets online or contact the Chamber office to reserve your ticket. 613-432-4848 ext 181 info@renfrewareachamber.ca \nWe hope to see you there for what promises to be a fantastic opportunity for sharing and connection.
URL:https://renfrewareachamber.ca/event/mayors-ec-dev-update-networking-breakfast-2/
LOCATION:myFM Centre\, 1 Ma-Te-Way Park Drive\, Renfrew\, Ontario\, Canada
ATTACH;FMTTYPE=image/jpeg:https://renfrewareachamber.ca/wp/wp-content/uploads/2025/02/Mayors-and-EcDev-Update-Breakfast-Networking-1-1.jpg
ORGANIZER;CN="Renfrew & Area Chamber of Commerce":MAILTO:info@renfrewareachamber.ca
END:VEVENT
BEGIN:VEVENT
DTSTART;TZID=America/Toronto:20250501T170000
DTEND;TZID=America/Toronto:20250501T190000
DTSTAMP:20260419T143908
CREATED:20250407T161233Z
LAST-MODIFIED:20250407T171614Z
UID:10000044-1746118800-1746126000@renfrewareachamber.ca
SUMMARY:"The Home"
DESCRIPTION:After Hours Renfrew & Area Chamber of Commerce presents: “The Home”\nJoin us at Renfrew Castle Building Centre\, for an after hours event on Thursday May 1\, 2025 and speak with Experts about your Home.\nRenfrew Castle Building Center\, Sherri Cobus\, Dunbar Home Inspection\, SLS Millwork Customs CabiFree for Members\, $10 for non-members.\nPlease call613-432-4848 ext 181.
URL:https://renfrewareachamber.ca/event/the-home/
LOCATION:Renfrew Castle Building Centre\, 1054 Gillan Road \,\, Renfrew\, Ontario\, K7V 4A6\, Canada
ATTACH;FMTTYPE=image/jpeg:https://renfrewareachamber.ca/wp/wp-content/uploads/2025/04/May-1-Renfrew-Castle.jpg
ORGANIZER;CN="Renfrew & Area Chamber of Commerce":MAILTO:info@renfrewareachamber.ca
END:VEVENT
BEGIN:VEVENT
DTSTART;TZID=America/Toronto:20250423T120000
DTEND;TZID=America/Toronto:20250423T130000
DTSTAMP:20260419T143908
CREATED:20250402T143809Z
LAST-MODIFIED:20250402T143809Z
UID:10000043-1745409600-1745413200@renfrewareachamber.ca
SUMMARY:Lunch & Learn with Informanix Technology Group Inc.
DESCRIPTION:Join Informanix Technology Group for an eye -opening conversation on the critical importance of online security in today’s digital landscape. This is a free event with food and drink provided. Space is limited\, register now at https://www.eventbrite.ca/e/lunch-learn-event-hosted-by-informanix-tickets-1306952783959
URL:https://renfrewareachamber.ca/event/lunch-learn-with-informanix-technology-group-inc/
LOCATION:Renfrew Visitors Information Centre\, 190 Mask Road\, Renfrew\, Ontario\, Canada
ATTACH;FMTTYPE=image/jpeg:https://renfrewareachamber.ca/wp/wp-content/uploads/2025/04/23APRIL-RENFREW-ad-002.jpeg
END:VEVENT
BEGIN:VEVENT
DTSTART;TZID=America/Toronto:20250325T073000
DTEND;TZID=America/Toronto:20250325T093000
DTSTAMP:20260419T143908
CREATED:20250214T184315Z
LAST-MODIFIED:20250227T184520Z
UID:10000040-1742887800-1742895000@renfrewareachamber.ca
SUMMARY:Annual General Meeting Breakfast Networking Event
DESCRIPTION:The Renfrew & Area Chamber of Commerce is delighted to announce our Annual General Meeting (AGM) Breakfast & Networking Event on Tuesday\, March 25\, 2025\, at the myFM Centre. \nJoin us at 7:30 AM for a delicious breakfast and networking opportunities\, followed by an insightful presentation at 8:00 AM from our guest speaker\, Rod Morgan of RPM-Academy. Rod will deliver \n“From Threat to Opportunity: Mastering the Art of Problem-Solving\,” offering valuable strategies to turn challenges into success. Please RSVP by March 19\, 2025. Follow the link to purchase your Tickets online or contact the Chamber office to reserve your ticket. 613-432-4848 ext 181 info@renfrewareachamber.ca  \nReserve your tickets now – $30.00 per ticket for Members and $35.00 per ticket for Non-Members.  We look forward to seeing you on Tuesday March 25\, 2025.
URL:https://renfrewareachamber.ca/event/annual-general-meeting-breakfast-networking-event/
LOCATION:myFM Centre\, 1 Ma-Te-Way Park Drive\, Renfrew\, Ontario\, Canada
ATTACH;FMTTYPE=image/png:https://renfrewareachamber.ca/wp/wp-content/uploads/2025/02/2025-AGM-Invite.png
ORGANIZER;CN="Renfrew & Area Chamber of Commerce":MAILTO:info@renfrewareachamber.ca
END:VEVENT
BEGIN:VEVENT
DTSTART;TZID=America/Toronto:20240918T180000
DTEND;TZID=America/Toronto:20240918T200000
DTSTAMP:20260419T143908
CREATED:20240718T180545Z
LAST-MODIFIED:20240718T180546Z
UID:10000036-1726682400-1726689600@renfrewareachamber.ca
SUMMARY:New to the Frew Community Showcase Evening
DESCRIPTION:SAVE THE DATE!\nThe ‘New to the Frew Community Showcase Evening’ is just around the corner! The Renfrew and Area Chamber of Commerce\, in partnership with the Town of Renfrew\, is excited to host this informative event. It’s an opportunity for all community residents to connect directly with local organizations and businesses\, who will be showcasing their services and opportunities in one convenient location. Wednesday\, September 18\, 2024\, 6:00 pm – 8:00 pm\, at the myFM Centre\, 1 Ma-te-Way Drive\, Renfrew.\nQuestions? Contact Renfrew & Area Chambers and Commerce info@renfrewareachamber.ca or call 613-432-4848 ext 181
URL:https://renfrewareachamber.ca/event/new-to-the-frew-community-showcase-evening/
LOCATION:Ontario
ATTACH;FMTTYPE=image/jpeg:https://renfrewareachamber.ca/wp/wp-content/uploads/2024/07/New-to-the-Frew-Community-Showcase-Evening-Wednesday-September-18-2024-004.jpeg
END:VEVENT
BEGIN:VEVENT
DTSTART;TZID=America/Toronto:20240822T080000
DTEND;TZID=America/Toronto:20241024T170000
DTSTAMP:20260419T143908
CREATED:20240822T173843Z
LAST-MODIFIED:20240822T174025Z
UID:10000039-1724313600-1729789200@renfrewareachamber.ca
SUMMARY:Pinnacle of Business Excellence Awards
DESCRIPTION:We are excited to announce the rebranding of the Chamber Community Awards to the ‘Pinnacle of Business Excellence Awards.’ Nominations are now open for all businesses in the Township of Admaston/Bromley Township of Greater Madawaska Township of Horton and the Town of Renfrew. Nominations will close on Thursday September 19\, 2024\, at 3:00 pm. This is your chance to nominate a Business\, Young Entrepreneur\, Youth Employee\, Breakout Business\, Employee of the Year\, Hospitality Award\, and Lifetime Achievement of the Year. Submit your nominations here. https://renfrewareachamber.ca/pinnacle-of-business…/
URL:https://renfrewareachamber.ca/event/pinnacle-of-business-excellence-awards/
LOCATION:Ontario
ATTACH;FMTTYPE=image/png:https://renfrewareachamber.ca/wp/wp-content/uploads/2024/08/Nominations-are-Now-Open-1.png
END:VEVENT
BEGIN:VEVENT
DTSTART;TZID=America/Toronto:20240528T073000
DTEND;TZID=America/Toronto:20240528T093000
DTSTAMP:20260419T143908
CREATED:20240510T142109Z
LAST-MODIFIED:20240510T144142Z
UID:10000025-1716881400-1716888600@renfrewareachamber.ca
SUMMARY:Economic Development Update Breakfast Networking Event
DESCRIPTION:Join us on Tuesday May 28\, 2024 for an informative Economic Development Update from our four municipalities. Beginning at 7:30 am a light breakfast\, catered by the Bonnechere Bakery and Bistro will be available with guest speakers beginning at 8:00 am. At 9:00 am\, a tour of the new myFM Centre will begin. Tickets are $25.00\, to reserve your ticket\, please contact the Chamber office at info@renfrewareachamber.ca or call 613-432-4848 ext. 181 We look forward to seeing you on Tuesday May 28th\, 2024. \n 
URL:https://renfrewareachamber.ca/event/economic-development-update-breakfast-networking-event/
LOCATION:Ontario
ATTACH;FMTTYPE=image/jpeg:https://renfrewareachamber.ca/wp/wp-content/uploads/2024/05/Economic-Dev-Breakfast-Networking-Event.jpg
ORGANIZER;CN="Renfrew & Area Chamber of Commerce":MAILTO:info@renfrewareachamber.ca
END:VEVENT
BEGIN:VEVENT
DTSTART;TZID=America/Toronto:20240305T073000
DTEND;TZID=America/Toronto:20240305T093000
DTSTAMP:20260419T143908
CREATED:20240214T163945Z
LAST-MODIFIED:20240214T163945Z
UID:10000026-1709623800-1709631000@renfrewareachamber.ca
SUMMARY:Breakfast Networking Event / Annual General Meeting
DESCRIPTION:The Renfrew & Area Chamber of Commerce is excited to announce our Breakfast Networking Event and Annual General Meeting will be held on Tuesday March 5\, 2024.\nWe are pleased to welcome Dr. Denis Cauvier as our guest speaker on the topic of Business Resilience. Tickets are $30.00 per person which will include a continental breakfast catered by the Bonnechere Bakery. Everyone is welcomed\, please share with your team and contacts.\n\n\nThank you Renfrew & Burnstown Castle for sponsoring this event.\n\n\nPlease contact the Chamber office to reserve your tickets now.\ninfo@renfrewareachamber.ca or 613-432-4848 ext. 181
URL:https://renfrewareachamber.ca/event/breakfast-networking-event-annual-general-meeting/
LOCATION:Ontario
ATTACH;FMTTYPE=image/jpeg:https://renfrewareachamber.ca/wp/wp-content/uploads/2024/02/Breakfast-Networking-AGM-2024.jpeg
END:VEVENT
BEGIN:VEVENT
DTSTART;TZID=America/Toronto:20240220T080000
DTEND;TZID=America/Toronto:20240220T090000
DTSTAMP:20260419T143908
CREATED:20240214T162641Z
LAST-MODIFIED:20240214T162641Z
UID:10000022-1708416000-1708419600@renfrewareachamber.ca
SUMMARY:Chamber Board of Directors Meeting
DESCRIPTION:
URL:https://renfrewareachamber.ca/event/chamber-board-of-directors-meeting-3/
LOCATION:Ontario
END:VEVENT
BEGIN:VEVENT
DTSTART;TZID=America/Toronto:20231219T080000
DTEND;TZID=America/Toronto:20231219T090000
DTSTAMP:20260419T143908
CREATED:20230628T164336Z
LAST-MODIFIED:20230628T164336Z
UID:10000035-1702972800-1702976400@renfrewareachamber.ca
SUMMARY:Chamber Board of Directors Meeting
DESCRIPTION:Upstairs Town Hall Board Room or through Zoom
URL:https://renfrewareachamber.ca/event/chamber-board-of-directors-meeting-2/2023-12-19/
LOCATION:Ontario
END:VEVENT
BEGIN:VEVENT
DTSTART;TZID=America/Toronto:20231121T080000
DTEND;TZID=America/Toronto:20231121T090000
DTSTAMP:20260419T143908
CREATED:20230628T164336Z
LAST-MODIFIED:20230628T164336Z
UID:10000034-1700553600-1700557200@renfrewareachamber.ca
SUMMARY:Chamber Board of Directors Meeting
DESCRIPTION:Upstairs Town Hall Board Room or through Zoom
URL:https://renfrewareachamber.ca/event/chamber-board-of-directors-meeting-2/2023-11-21/
LOCATION:Ontario
END:VEVENT
BEGIN:VEVENT
DTSTART;TZID=America/Toronto:20231019T173000
DTEND;TZID=America/Toronto:20231019T203000
DTSTAMP:20260419T143908
CREATED:20230628T173238Z
LAST-MODIFIED:20230628T173238Z
UID:10000024-1697736600-1697747400@renfrewareachamber.ca
SUMMARY:Celebrating Community Sucess
DESCRIPTION:The Annual Community Awards celebration will be held on October 19th at the Ma-Te-Way Activity Centre.  This is an evening where we celebrate our businesses\, organizations and individuals who have made a positive impact in the community.  Nominations are now open at https://renfrewareachamber.ca/annual-community-awards-nomination-form/     Contact the Chamber office for more details.
URL:https://renfrewareachamber.ca/event/celebrating-community-sucess/
LOCATION:Ontario
END:VEVENT
BEGIN:VEVENT
DTSTART;TZID=America/Toronto:20231019T173000
DTEND;TZID=America/Toronto:20231019T200000
DTSTAMP:20260419T143908
CREATED:20231002T161223Z
LAST-MODIFIED:20231002T161730Z
UID:10000023-1697736600-1697745600@renfrewareachamber.ca
SUMMARY:"Light Up The Night" Community Awards Celebration
DESCRIPTION:Thursday October 19\, 2023 for the Annual Community Awards Celebration.  Cocktails 5:30 pm.\, awards begins at 6:30 p.m. Reserve your tickets by following the link. \nhttp://events.constantcontact.com/register/event?llr=fulhfytab&oeidk=a07ek0fa8ko30f5b8df
URL:https://renfrewareachamber.ca/event/light-up-the-night-community-awards-celebration/
LOCATION:Ontario
ATTACH;FMTTYPE=image/jpeg:https://renfrewareachamber.ca/wp/wp-content/uploads/2023/10/Light-Up-the-Night-poster.jpg
END:VEVENT
BEGIN:VEVENT
DTSTART;TZID=America/Toronto:20231017T080000
DTEND;TZID=America/Toronto:20231017T090000
DTSTAMP:20260419T143908
CREATED:20230628T164336Z
LAST-MODIFIED:20230628T164336Z
UID:10000033-1697529600-1697533200@renfrewareachamber.ca
SUMMARY:Chamber Board of Directors Meeting
DESCRIPTION:Upstairs Town Hall Board Room or through Zoom
URL:https://renfrewareachamber.ca/event/chamber-board-of-directors-meeting-2/2023-10-17/
LOCATION:Ontario
END:VEVENT
BEGIN:VEVENT
DTSTART;TZID=America/Toronto:20230920T170000
DTEND;TZID=America/Toronto:20230920T190000
DTSTAMP:20260419T143908
CREATED:20230628T165202Z
LAST-MODIFIED:20230628T165202Z
UID:10000029-1695229200-1695236400@renfrewareachamber.ca
SUMMARY:Community Showcase Evening
DESCRIPTION:Save the Date!  The Community Showcase Evening (formally New to the Frew) will be held Wednesday September 20\, 2023 at the Renfrew Legion Branch 148
URL:https://renfrewareachamber.ca/event/community-showcase-evening/
LOCATION:Ontario
END:VEVENT
BEGIN:VEVENT
DTSTART;TZID=America/Toronto:20230919T080000
DTEND;TZID=America/Toronto:20230919T090000
DTSTAMP:20260419T143908
CREATED:20230628T164336Z
LAST-MODIFIED:20230628T164336Z
UID:10000032-1695110400-1695114000@renfrewareachamber.ca
SUMMARY:Chamber Board of Directors Meeting
DESCRIPTION:Upstairs Town Hall Board Room or through Zoom
URL:https://renfrewareachamber.ca/event/chamber-board-of-directors-meeting-2/2023-09-19/
LOCATION:Ontario
END:VEVENT
BEGIN:VEVENT
DTSTART;TZID=America/Toronto:20230815T080000
DTEND;TZID=America/Toronto:20230815T090000
DTSTAMP:20260419T143908
CREATED:20230628T164336Z
LAST-MODIFIED:20230628T164336Z
UID:10000031-1692086400-1692090000@renfrewareachamber.ca
SUMMARY:Chamber Board of Directors Meeting
DESCRIPTION:Upstairs Town Hall Board Room or through Zoom
URL:https://renfrewareachamber.ca/event/chamber-board-of-directors-meeting-2/2023-08-15/
LOCATION:Ontario
END:VEVENT
BEGIN:VEVENT
DTSTART;TZID=America/Toronto:20210316T080000
DTEND;TZID=America/Toronto:20210316T090000
DTSTAMP:20260419T143908
CREATED:20210302T162635Z
LAST-MODIFIED:20210302T162635Z
UID:10000030-1615881600-1615885200@renfrewareachamber.ca
SUMMARY:Board of Directors Meeting
DESCRIPTION:Our next schedule regular Board of Directors meeting will be held on Tuesday March 16\, 2021\, via Zoom.  Members are welcome to join\, please contact the Chamber office at info@renfrewareachamber.ca or call 613-432-7015.
URL:https://renfrewareachamber.ca/event/board-of-directors-meeting/
LOCATION:Ontario
END:VEVENT
END:VCALENDAR